BEGIN:VCALENDAR
VERSION:2.0
PRODID:-//Hinds Behavioral Health Services - Region 9 - ECPv6.15.20//NONSGML v1.0//EN
CALSCALE:GREGORIAN
METHOD:PUBLISH
X-WR-CALNAME:Hinds Behavioral Health Services - Region 9
X-ORIGINAL-URL:https://hbhs9.com
X-WR-CALDESC:Events for Hinds Behavioral Health Services - Region 9
REFRESH-INTERVAL;VALUE=DURATION:PT1H
X-Robots-Tag:noindex
X-PUBLISHED-TTL:PT1H
BEGIN:VTIMEZONE
TZID:America/Chicago
BEGIN:DAYLIGHT
TZOFFSETFROM:-0600
TZOFFSETTO:-0500
TZNAME:CDT
DTSTART:20180311T080000
END:DAYLIGHT
BEGIN:STANDARD
TZOFFSETFROM:-0500
TZOFFSETTO:-0600
TZNAME:CST
DTSTART:20181104T070000
END:STANDARD
BEGIN:DAYLIGHT
TZOFFSETFROM:-0600
TZOFFSETTO:-0500
TZNAME:CDT
DTSTART:20190310T080000
END:DAYLIGHT
BEGIN:STANDARD
TZOFFSETFROM:-0500
TZOFFSETTO:-0600
TZNAME:CST
DTSTART:20191103T070000
END:STANDARD
BEGIN:DAYLIGHT
TZOFFSETFROM:-0600
TZOFFSETTO:-0500
TZNAME:CDT
DTSTART:20200308T080000
END:DAYLIGHT
BEGIN:STANDARD
TZOFFSETFROM:-0500
TZOFFSETTO:-0600
TZNAME:CST
DTSTART:20201101T070000
END:STANDARD
BEGIN:DAYLIGHT
TZOFFSETFROM:-0600
TZOFFSETTO:-0500
TZNAME:CDT
DTSTART:20210314T080000
END:DAYLIGHT
BEGIN:STANDARD
TZOFFSETFROM:-0500
TZOFFSETTO:-0600
TZNAME:CST
DTSTART:20211107T070000
END:STANDARD
BEGIN:DAYLIGHT
TZOFFSETFROM:-0600
TZOFFSETTO:-0500
TZNAME:CDT
DTSTART:20220313T080000
END:DAYLIGHT
BEGIN:STANDARD
TZOFFSETFROM:-0500
TZOFFSETTO:-0600
TZNAME:CST
DTSTART:20221106T070000
END:STANDARD
BEGIN:DAYLIGHT
TZOFFSETFROM:-0600
TZOFFSETTO:-0500
TZNAME:CDT
DTSTART:20230312T080000
END:DAYLIGHT
BEGIN:STANDARD
TZOFFSETFROM:-0500
TZOFFSETTO:-0600
TZNAME:CST
DTSTART:20231105T070000
END:STANDARD
END:VTIMEZONE
BEGIN:VEVENT
DTSTART;TZID=America/Chicago:20220329T180000
DTEND;TZID=America/Chicago:20220329T193000
DTSTAMP:20260420T085429
CREATED:20220302T163416Z
LAST-MODIFIED:20220302T163416Z
UID:3277-1648576800-1648582200@hbhs9.com
SUMMARY:Youth Violence and Drug Use Town Hall
DESCRIPTION:Join the community discussion regarding the correlation between drug use and violence amongst youth and young adults. The Town Hall will also discuss current community crime strategies\, prevention\, and substance use recovery efforts. This event is free and open to the public. *Panelist will answer questions in person and Facebook Live. \nJoin the conversation on our Facebook Live!
URL:https://hbhs9.com/event/jackson-drug-town-hall/
LOCATION:Hinds Behavioral Health Services\, 3450 Highway 80 West\, Jackson\, MS\, 39209\, United States
CATEGORIES:Awareness
ATTACH;FMTTYPE=image/png:https://hbhs9.com/wp-content/uploads/2022/03/Town-Hall-Prevention-March-event-revised.png
END:VEVENT
BEGIN:VEVENT
DTSTART;TZID=America/Chicago:20220326T110000
DTEND;TZID=America/Chicago:20220326T140000
DTSTAMP:20260420T085429
CREATED:20220302T190724Z
LAST-MODIFIED:20220302T190724Z
UID:3282-1648292400-1648303200@hbhs9.com
SUMMARY:I Am "Mental Health" Fair & Town Hall
DESCRIPTION:Stop by Hinds Behavioral Health Services for free health screenings\, community resources\, a community roundtable town hall\, door prizes\, and a live DJ. The Community Roundtable Town Hall will take place at 12:30 PM and will discuss mental health and COVID.\n\n*A food truck will also be available for food purchases.
URL:https://hbhs9.com/event/i-am-health-fair/
LOCATION:Hinds Behavioral Health Services\, 3450 Highway 80 West\, Jackson\, MS\, 39209\, United States
CATEGORIES:Awareness,Family Event,Testing
ATTACH;FMTTYPE=image/png:https://hbhs9.com/wp-content/uploads/2022/03/CMHC-health-fair-flyer-final.png
END:VEVENT
BEGIN:VEVENT
DTSTART;TZID=America/Chicago:20220307T080000
DTEND;TZID=America/Chicago:20220311T170000
DTSTAMP:20260420T085429
CREATED:20220202T154549Z
LAST-MODIFIED:20220202T174857Z
UID:3252-1646640000-1647018000@hbhs9.com
SUMMARY:CIT 40-Hour Law Enforcement Training (March)
DESCRIPTION:Are you a law enforcement officer seeking new skills to serve those living with mental illness in your community? Join the Hinds Behavioral Health Services’ CIT Academy for an upcoming 40-hour mental health training and become part of a nationally recognized CIT team. \nQualifications: Training will only be provided for full-time certified law enforcement officers with a minimum of one year of law enforcement experience. \nClass size is limited to 12 officers. Priority will be given to officers who serve Hinds County\, MS. \n   \nhttps://www.citinternational.org/Learn-About-CIT
URL:https://hbhs9.com/event/cit-40-hour-law-enforcement-training-march/
LOCATION:MS
CATEGORIES:Awareness
ATTACH;FMTTYPE=image/png:https://hbhs9.com/wp-content/uploads/2022/02/CIT-Flyer-March-2022.png
END:VEVENT
BEGIN:VEVENT
DTSTART;TZID=America/Chicago:20211104T090000
DTEND;TZID=America/Chicago:20211105T140000
DTSTAMP:20260420T085429
CREATED:20211013T163436Z
LAST-MODIFIED:20211025T152540Z
UID:3049-1636016400-1636120800@hbhs9.com
SUMMARY:MAT Summit
DESCRIPTION:Are you a nurse\, doctor\, social worker\, therapist\, drug court professional\, or addiction professional? Join the Hinds Behavioral Health Services upcoming MAT Summit and learn about the success of Medication-Assisted Treatment for adults diagnosed with co-occurring and/or an alcohol or opioid use disorder.
URL:https://hbhs9.com/event/mat-summit/
LOCATION:MS
CATEGORIES:Awareness,Training
ATTACH;FMTTYPE=image/png:https://hbhs9.com/wp-content/uploads/2021/10/MAT-Summit-revised-10-25.png
END:VEVENT
BEGIN:VEVENT
DTSTART;TZID=America/Chicago:20211025T080000
DTEND;TZID=America/Chicago:20211029T170000
DTSTAMP:20260420T085429
CREATED:20210907T170603Z
LAST-MODIFIED:20210907T170752Z
UID:2900-1635148800-1635526800@hbhs9.com
SUMMARY:CIT 40-Hour Law Enforcement Training (October)
DESCRIPTION:Are you a law enforcement officer seeking new skills to serve those living with mental illness in your community? Join the Hinds Behavioral Health Services’ CIT Academy for an upcoming 40-hour mental health training and become part of a nationally recognized CIT team. \nQualifications: Training will only be provided for full-time certified law enforcement officers with a minimum of one year of law enforcement experience. \nClass size is limited to 12 officers. Priority will be given to officers who serve Hinds County\, MS. \nDownload A Registration Form \nhttps://www.citinternational.org/Learn-About-CIT
URL:https://hbhs9.com/event/cit-40-hour-law-enforcement-training-october-2/
LOCATION:MS
CATEGORIES:Awareness
ATTACH;FMTTYPE=image/png:https://hbhs9.com/wp-content/uploads/2021/09/CIT-flyer-2021-October.png
END:VEVENT
BEGIN:VEVENT
DTSTART;TZID=America/Chicago:20210615T080000
DTEND;TZID=America/Chicago:20210615T120000
DTSTAMP:20260420T085429
CREATED:20210521T191506Z
LAST-MODIFIED:20210521T193427Z
UID:2826-1623744000-1623758400@hbhs9.com
SUMMARY:Leading By Example
DESCRIPTION:Join us for a free mental health training in June or July. The training is open to tri-county executive branches of law enforcement\, elected officials\, agency directors\, and clergy. \n*Training: June 15 and 22\, 2021 and July 13 and 20\, 2021 \nRegistration Form
URL:https://hbhs9.com/event/leading-by-example/
LOCATION:Hinds Behavioral Health Services\, 3450 Highway 80 West\, Jackson\, MS\, 39209\, United States
CATEGORIES:Awareness
ATTACH;FMTTYPE=image/png:https://hbhs9.com/wp-content/uploads/2021/05/Leading-by-Example-Flyer.pdf.png
END:VEVENT
BEGIN:VEVENT
DTSTART;TZID=America/Chicago:20210514T110000
DTEND;TZID=America/Chicago:20210514T140000
DTSTAMP:20260420T085429
CREATED:20210406T141657Z
LAST-MODIFIED:20210406T141657Z
UID:2737-1620990000-1621000800@hbhs9.com
SUMMARY:Fun-N-The-Sun
DESCRIPTION:Join us May 14\, 2021 from 11 AM – 2 PM for some fun in the sun. Enjoy free food\, live music\, alcohol and drug prevention resources\, and a first-come\, first-served free clothing giveaway.
URL:https://hbhs9.com/event/fun-n-the-sun-3/
LOCATION:MS
CATEGORIES:Awareness,Family Event
ATTACH;FMTTYPE=image/png:https://hbhs9.com/wp-content/uploads/2021/04/Fun-N-The-Sun-2021-1.png
END:VEVENT
BEGIN:VEVENT
DTSTART;TZID=America/Chicago:20210430T140000
DTEND;TZID=America/Chicago:20210430T150000
DTSTAMP:20260420T085429
CREATED:20210427T142453Z
LAST-MODIFIED:20210427T142602Z
UID:2773-1619791200-1619794800@hbhs9.com
SUMMARY:CIT Officer Graduation
DESCRIPTION:Help celebrate new Hinds County and Mississippi CIT Officers. Join us for a virtual CIT Officer graduation at 2 PM on April 30\, 2021.
URL:https://hbhs9.com/event/cit-officer-graduation/
LOCATION:Hinds Behavioral Health Services\, 3450 Highway 80 West\, Jackson\, MS\, 39209\, United States
CATEGORIES:Awareness
ATTACH;FMTTYPE=image/png:https://hbhs9.com/wp-content/uploads/2021/04/CIT-Graduation-Flyer-April-2021.png
END:VEVENT
BEGIN:VEVENT
DTSTART;TZID=America/Chicago:20210426T080000
DTEND;TZID=America/Chicago:20210430T170000
DTSTAMP:20260420T085429
CREATED:20210317T182823Z
LAST-MODIFIED:20210317T182823Z
UID:2704-1619424000-1619802000@hbhs9.com
SUMMARY:CIT 40-Hour Law Enforcement Training (April)
DESCRIPTION:Are you a law enforcement officer seeking new skills to serve those living with mental illness in your community? Join Hinds Behavioral Health Services’ upcoming 40-hour mental health training and become part of a nationally recognized CIT team. \nQualifications: Training will only be provided for full-time certified law enforcement officers with a minimum of one year of law enforcement experience. \nClass size is limited to 12 officers. Priority will be given to officers who serve Hinds County\, MS. \nDownload A Registration Form \nhttps://www.citinternational.org/Learn-About-CIT
URL:https://hbhs9.com/event/cit-40-hour-law-enforcement-training-april/
LOCATION:MS
CATEGORIES:Awareness
ATTACH;FMTTYPE=image/png:https://hbhs9.com/wp-content/uploads/2021/03/CIT-FLYER-2021-April-2.png
END:VEVENT
BEGIN:VEVENT
DTSTART;TZID=America/Chicago:20210212T090000
DTEND;TZID=America/Chicago:20210212T130000
DTSTAMP:20260420T085429
CREATED:20210121T150306Z
LAST-MODIFIED:20210125T211048Z
UID:2657-1613120400-1613134800@hbhs9.com
SUMMARY:Free HIV Testing Event
DESCRIPTION:Your sexual health is important. Get tested for you\, for your family\, for your community. A recent study on HIV clustering in the state found that residents of the Delta\, southern Mississippi\, and the greater Jackson area are at especially high risk for contracting the disease. \nStop by Hinds Behavioral Health Services on February 12\, 2021 for a free HIV and STI screening\, 9 AM to 1 PM. \n*HIV screening is provided by My Brother’s Keeper.
URL:https://hbhs9.com/event/free-hiv-testing-event-2/
LOCATION:MS
CATEGORIES:Awareness,Testing
ATTACH;FMTTYPE=image/png:https://hbhs9.com/wp-content/uploads/2021/01/HIV-Prevention-Flyer-2021-1.png
END:VEVENT
BEGIN:VEVENT
DTSTART;TZID=America/Chicago:20201218T110000
DTEND;TZID=America/Chicago:20201218T123000
DTSTAMP:20260420T085429
CREATED:20201111T220340Z
LAST-MODIFIED:20201111T220340Z
UID:2563-1608289200-1608294600@hbhs9.com
SUMMARY:Holiday Sit and Sip
DESCRIPTION:Join as we celebrate the holiday season and discuss coping skills to get through any holiday blues. Enjoy free food\, door prizes\, guest speakers\, holiday vendors\, and more.
URL:https://hbhs9.com/event/holiday-sit-and-sip/
LOCATION:MS
CATEGORIES:Awareness,Family Event
ATTACH;FMTTYPE=image/png:https://hbhs9.com/wp-content/uploads/2020/11/AD-Sit-Sip-2020.png
END:VEVENT
BEGIN:VEVENT
DTSTART;TZID=America/Chicago:20201117T083000
DTEND;TZID=America/Chicago:20201117T103000
DTSTAMP:20260420T085429
CREATED:20201020T155026Z
LAST-MODIFIED:20201020T155026Z
UID:2520-1605601800-1605609000@hbhs9.com
SUMMARY:Diabetes Wellness Day
DESCRIPTION:Join us at Hinds Behavioral Health Services for a free diabetes risk assessment on November 17\, 2020. \n*Sponsored by Integrated Care
URL:https://hbhs9.com/event/diabetes-wellness-day/
LOCATION:MS
CATEGORIES:Awareness
ATTACH;FMTTYPE=image/png:https://hbhs9.com/wp-content/uploads/2020/10/Diabetes-Flyer-2020-2.png
END:VEVENT
BEGIN:VEVENT
DTSTART;TZID=America/Chicago:20201026T080000
DTEND;TZID=America/Chicago:20201030T170000
DTSTAMP:20260420T085429
CREATED:20200902T171720Z
LAST-MODIFIED:20200903T194625Z
UID:1705-1603699200-1604077200@hbhs9.com
SUMMARY:CIT 40-Hour Law Enforcement Training (October)
DESCRIPTION:Are you a law enforcement officer seeking new skills to serve those living with mental illness in your community? Join Hinds Behavioral Health Services’ upcoming 40-hour mental health training and become part of a nationally recognized CIT team. \nQualifications: Training will only be provided for full-time certified law enforcement officers with a minimum of one-year law enforcement experience. \nThe deadline to register is Friday\, October 16\, 2020. Priority will be given to officers who were previously registered for the March 2020 class. \nDownload A Registration Form \nhttps://www.citinternational.org/Learn-About-CIT
URL:https://hbhs9.com/event/cit-40-hour-law-enforcement-training-october/
LOCATION:MS
CATEGORIES:Awareness
ATTACH;FMTTYPE=image/png:https://hbhs9.com/wp-content/uploads/2020/09/CIT-FLYER-2020-October-2.png
END:VEVENT
BEGIN:VEVENT
DTSTART;TZID=America/Chicago:20200917T090000
DTEND;TZID=America/Chicago:20200917T100000
DTSTAMP:20260420T085429
CREATED:20200902T194529Z
LAST-MODIFIED:20200902T194529Z
UID:2410-1600333200-1600336800@hbhs9.com
SUMMARY:Recovery is REAL
DESCRIPTION:Celebrate Recovery month at Hinds Behavioral Health Services\, September 17\, 2020. Enjoy free snacks and prizes\, 9 AM to 10 AM. Plus purchase lunch from a food truck from 11 AM to 2 PM.
URL:https://hbhs9.com/event/recovery-is-real/
LOCATION:MS
CATEGORIES:Awareness
ATTACH;FMTTYPE=image/png:https://hbhs9.com/wp-content/uploads/2020/09/Recovery-Month-2020.png
END:VEVENT
BEGIN:VEVENT
DTSTART;TZID=America/Chicago:20200214T100000
DTEND;TZID=America/Chicago:20200214T130000
DTSTAMP:20260420T085429
CREATED:20200109T142613Z
LAST-MODIFIED:20200109T142613Z
UID:2121-1581674400-1581685200@hbhs9.com
SUMMARY:Free HIV Testing Event
DESCRIPTION:Your sexual health is important. Get tested for you\, for your family\, for your community. Stop by Hinds Behavioral Health Services on Valentine’s Day for a free HIV screening\, 10 AM to 1 PM.
URL:https://hbhs9.com/event/free-hiv-testing-event/
LOCATION:MS
CATEGORIES:Awareness,Testing
ATTACH;FMTTYPE=image/png:https://hbhs9.com/wp-content/uploads/2020/01/HIV-Prevention-Flyer-2020-revised.png
END:VEVENT
BEGIN:VEVENT
DTSTART;TZID=America/Chicago:20200214T090000
DTEND;TZID=America/Chicago:20200214T110000
DTSTAMP:20260420T085429
CREATED:20200108T221045Z
LAST-MODIFIED:20200108T221045Z
UID:2118-1581670800-1581678000@hbhs9.com
SUMMARY:Client Appreciation Day
DESCRIPTION:We love what we do because of you! Enjoy a free cupcake at Hinds Behavioral Health Services on February 14th from 9 AM – 11 AM. Happy Client Appreciation Day! (Free cupcakes and prizes while supplies last)
URL:https://hbhs9.com/event/client-appreciation-day-2020/
LOCATION:MS
CATEGORIES:Awareness
ATTACH;FMTTYPE=image/png:https://hbhs9.com/wp-content/uploads/2020/01/Client-Appreciation-Day-2020.png
END:VEVENT
BEGIN:VEVENT
DTSTART;TZID=America/Chicago:20191213T100000
DTEND;TZID=America/Chicago:20191213T130000
DTSTAMP:20260420T085429
CREATED:20191115T205213Z
LAST-MODIFIED:20191115T205309Z
UID:2075-1576231200-1576242000@hbhs9.com
SUMMARY:Sit and Sip 2019
DESCRIPTION:Kick the holiday blues\, learn how to enjoy a healthier 2020 at Hinds Behavioral Health Services’ Sit and Sip holiday event. Free and open to the public. Light refreshments will be served\, door prizes will be given out\, and vendors will be present.
URL:https://hbhs9.com/event/sit-and-sip-2019/
LOCATION:MS
CATEGORIES:Awareness,Family Event
ATTACH;FMTTYPE=image/png:https://hbhs9.com/wp-content/uploads/2019/11/2019-Sit-Sip-scaled.png
END:VEVENT
BEGIN:VEVENT
DTSTART;TZID=America/Chicago:20190923T090000
DTEND;TZID=America/Chicago:20190923T100000
DTSTAMP:20260420T085429
CREATED:20190911T174544Z
LAST-MODIFIED:20190911T174544Z
UID:2030-1569229200-1569232800@hbhs9.com
SUMMARY:Recovery Month Celebration
DESCRIPTION:Recovery is real\, it happens every day. Join us as we celebrate National Recovery Month. Enjoy free snacks and prizes on September 23 at 9 AM.
URL:https://hbhs9.com/event/recovery-month-celebration/
LOCATION:MS
CATEGORIES:Awareness
ATTACH;FMTTYPE=image/png:https://hbhs9.com/wp-content/uploads/2019/09/self-care-drawing-2.png
END:VEVENT
BEGIN:VEVENT
DTSTART;TZID=America/Chicago:20190730T120000
DTEND;TZID=America/Chicago:20190730T160000
DTSTAMP:20260420T085429
CREATED:20190723T165237Z
LAST-MODIFIED:20190723T165237Z
UID:1969-1564488000-1564502400@hbhs9.com
SUMMARY:College and Career Fair
DESCRIPTION:Have life’s challenges slowed down your education or career path? Are you considering earning your GED or finding a new career? Stop by Hinds Behavioral Health Services on July 30 from 12 PM to 4 PM and speak with local businesses and colleges. (Event sponsored by Hinds Behavioral Health Services and NFusion Metro.)
URL:https://hbhs9.com/event/college-career-fair/
LOCATION:MS
CATEGORIES:Awareness
ATTACH;FMTTYPE=image/png:https://hbhs9.com/wp-content/uploads/2019/07/College-Career-Fair-1.png
END:VEVENT
BEGIN:VEVENT
DTSTART;TZID=America/Chicago:20190524T100000
DTEND;TZID=America/Chicago:20190524T140000
DTSTAMP:20260420T085429
CREATED:20190426T155129Z
LAST-MODIFIED:20190426T155129Z
UID:1829-1558692000-1558706400@hbhs9.com
SUMMARY:Fun in the Sun
DESCRIPTION:Join us May 24\, 2019 from 10 AM – 2 PM for some fun in the sun. Enjoy games\, education and prevention booths\, and a first come\, first served free clothing giveaway. Food trucks will be available at our office from 11 AM – 2 PM.
URL:https://hbhs9.com/event/fun-in-the-sun/
LOCATION:MS
CATEGORIES:Awareness,Family Event
ATTACH;FMTTYPE=image/png:https://hbhs9.com/wp-content/uploads/2019/04/Fun-In-The-Sun-2019-revision.png
END:VEVENT
BEGIN:VEVENT
DTSTART;TZID=America/Chicago:20190523T170000
DTEND;TZID=America/Chicago:20190523T190000
DTSTAMP:20260420T085429
CREATED:20190424T163912Z
LAST-MODIFIED:20190424T163912Z
UID:1819-1558630800-1558638000@hbhs9.com
SUMMARY:Prevention Karaoke Family Fun Night
DESCRIPTION:Share your voice during Mental Health Month! Join us for a free family event\, Prevention Karaoke Family Fun Night on May 23 from 5-7 PM. The event will take place at Hinds Behavioral Health Services\, 3450 Hwy 80 West\, Jackson\, MS. Enjoy an arcade trailer\, food\, space jump\, and karaoke.
URL:https://hbhs9.com/event/prevention-karaoke-family-fun-night/
LOCATION:MS
CATEGORIES:Awareness,Family Event
ATTACH;FMTTYPE=image/png:https://hbhs9.com/wp-content/uploads/2019/04/Karaoke-Family-Fun-Night.png
END:VEVENT
BEGIN:VEVENT
DTSTART;TZID=America/Chicago:20190516T170000
DTEND;TZID=America/Chicago:20190516T220000
DTSTAMP:20260420T085429
CREATED:20190426T185758Z
LAST-MODIFIED:20190426T190001Z
UID:1832-1558026000-1558044000@hbhs9.com
SUMMARY:Food Truck Festival: Dinner & A Movie
DESCRIPTION:Join us at the Food Truck Festival at the MS Museum of Art on May 16\, 2019 from 5 PM – 10 PM. Visit the Art Lab & create your own food truck\, dance to live music\, chow down on food truck treats\, and enjoy other activities. May is Mental Health Month. Find your “spark” of inspiration at Hinds Behavioral Health Services’ positive affirmation interactive pin wall. \n*This is a free family event. Food and drinks will be available for purchase. \n 
URL:https://hbhs9.com/event/food-truck-festival-dinner-a-movie/
LOCATION:MS
CATEGORIES:Awareness,Family Event
ATTACH;FMTTYPE=image/png:https://hbhs9.com/wp-content/uploads/2019/04/Food-Truck-Festival-Flyer-2019.png
END:VEVENT
BEGIN:VEVENT
DTSTART;TZID=America/Chicago:20190515T180000
DTEND;TZID=America/Chicago:20190515T193000
DTSTAMP:20260420T085429
CREATED:20190501T194813Z
LAST-MODIFIED:20190509T182728Z
UID:1839-1557943200-1557948600@hbhs9.com
SUMMARY:Underage Drinking Prevention Town Hall
DESCRIPTION:Start the conversation about underage drinking; join a community town hall on substance use/misuse. This event is free and open to the public.
URL:https://hbhs9.com/event/underage-drinking-town-hall/
LOCATION:MS
CATEGORIES:Awareness
ATTACH;FMTTYPE=image/png:https://hbhs9.com/wp-content/uploads/2019/05/Underage-Drinking-town-hall-update.png
END:VEVENT
BEGIN:VEVENT
DTSTART;TZID=America/Chicago:20190515T103000
DTEND;TZID=America/Chicago:20190515T120000
DTSTAMP:20260420T085429
CREATED:20190424T154218Z
LAST-MODIFIED:20190424T154218Z
UID:1816-1557916200-1557921600@hbhs9.com
SUMMARY:Client Appreciation Breakfast & Brunch
DESCRIPTION:Join us on May 15 as we celebrate Mental Health Month with a free client appreciation breakfast and brunch. The event will take place in the Hinds Behavioral Health Services’ Adult Lobby from 10:30 AM to 12 PM.
URL:https://hbhs9.com/event/client-appreciation-breakfast-brunch/
LOCATION:MS
CATEGORIES:Awareness
ATTACH;FMTTYPE=image/png:https://hbhs9.com/wp-content/uploads/2019/04/Treatment-Team-Breakfast.png
END:VEVENT
BEGIN:VEVENT
DTSTART;TZID=America/Chicago:20190509T090000
DTEND;TZID=America/Chicago:20190509T120000
DTSTAMP:20260420T085429
CREATED:20190424T192739Z
LAST-MODIFIED:20190424T192739Z
UID:1822-1557392400-1557403200@hbhs9.com
SUMMARY:Resource Fair
DESCRIPTION:Visit Hinds Behavioral Health Services on May 9 from 9 AM – 12 PM for a community resource/health fair. Vendors will provide education\, information\, and screenings.
URL:https://hbhs9.com/event/resource-fair/
LOCATION:MS
CATEGORIES:Awareness
ATTACH;FMTTYPE=image/png:https://hbhs9.com/wp-content/uploads/2019/04/Integrated-Care-Fair-2019.png
END:VEVENT
BEGIN:VEVENT
DTSTART;TZID=America/Chicago:20190429T130000
DTEND;TZID=America/Chicago:20190429T160000
DTSTAMP:20260420T085429
CREATED:20190423T151122Z
LAST-MODIFIED:20190423T151122Z
UID:1813-1556542800-1556553600@hbhs9.com
SUMMARY:Crisis Stabilization Unit Grand Opening
DESCRIPTION:Join us as we celebrate the grand opening of the first adult Crisis Stabilization Unit in Hinds County\, MS.
URL:https://hbhs9.com/event/crisis-stabilization-unit-grand-opening/
LOCATION:MS
CATEGORIES:Awareness
ATTACH;FMTTYPE=image/png:https://hbhs9.com/wp-content/uploads/2019/04/Invite-CSU.png
END:VEVENT
BEGIN:VEVENT
DTSTART;TZID=America/Chicago:20190427T110000
DTEND;TZID=America/Chicago:20190427T130000
DTSTAMP:20260420T085429
CREATED:20190425T194251Z
LAST-MODIFIED:20190425T194251Z
UID:1825-1556362800-1556370000@hbhs9.com
SUMMARY:Drug Take Back Day
DESCRIPTION:On Saturday\, April 27\, from 11 a.m. to 1 p.m. Hinds Behavioral Health Services\, JPD and the U.S. Drug Enforcement Administration will give the public its 17th opportunity in nine years to prevent pill abuse and theft by ridding their homes of potentially dangerous expired\, unused\, and unwanted prescription drugs. Bring your pills for disposal to Hinds Behavioral Health Services at 3450 Hwy 80 West\, Jackson\, MS. (Sites cannot accept liquids or needles or sharps\, only pills or patches.) The service is free and anonymous\, no questions asked.
URL:https://hbhs9.com/event/drug-take-back-day/
LOCATION:MS
CATEGORIES:Awareness
ATTACH;FMTTYPE=image/png:https://hbhs9.com/wp-content/uploads/2019/04/Take-Back-Day-Collection-Site-Hinds-Behavioral-Health-Services-11-AM-1-PM.png
END:VEVENT
BEGIN:VEVENT
DTSTART;TZID=America/Chicago:20190320T090000
DTEND;TZID=America/Chicago:20190320T120000
DTSTAMP:20260420T085429
CREATED:20190225T164648Z
LAST-MODIFIED:20190225T164648Z
UID:1755-1553072400-1553083200@hbhs9.com
SUMMARY:World Oral Health Day
DESCRIPTION:Celebrate your smile! Learn more about oral diseases\, prevention\, and tips for proper oral care.
URL:https://hbhs9.com/event/world-oral-health-day/
LOCATION:MS
CATEGORIES:Awareness
ATTACH;FMTTYPE=image/png:https://hbhs9.com/wp-content/uploads/2019/02/World-oral-health-day.png
END:VEVENT
BEGIN:VEVENT
DTSTART;TZID=America/Chicago:20190214T100000
DTEND;TZID=America/Chicago:20190214T140000
DTSTAMP:20260420T085429
CREATED:20190123T191005Z
LAST-MODIFIED:20190123T214001Z
UID:1692-1550138400-1550152800@hbhs9.com
SUMMARY:If You Love Me\, You'll Get Tested
DESCRIPTION:Free HIV and STI screening event at Hinds Behavioral Health Services on February 14th from 10 AM – 2 PM. Get tested for you\, for your partner\, for your community! (Sponsored by Hinds Behavioral Health Services and My Brother’s Keeper/Open Arms)
URL:https://hbhs9.com/event/if-you-love-me-youll-get-tested/
LOCATION:MS
CATEGORIES:Awareness,Testing
ATTACH;FMTTYPE=image/png:https://hbhs9.com/wp-content/uploads/2019/01/HIV-Prevention-Flyer-2019-1.png
END:VEVENT
BEGIN:VEVENT
DTSTART;TZID=America/Chicago:20190214T090000
DTEND;TZID=America/Chicago:20190214T110000
DTSTAMP:20260420T085429
CREATED:20190128T163457Z
LAST-MODIFIED:20190128T163457Z
UID:1698-1550134800-1550142000@hbhs9.com
SUMMARY:Client Appreciation Day
DESCRIPTION:We love what we do because of you! Enjoy a free cupcake at Hinds Behavioral Health Services on February 14th from 9 AM – 11 AM. Happy Client Appreciation Day! (Free cupcakes and prizes while supplies last)
URL:https://hbhs9.com/event/client-appreciation-day/
LOCATION:MS
CATEGORIES:Awareness
ATTACH;FMTTYPE=image/png:https://hbhs9.com/wp-content/uploads/2019/01/Client-Appreciation-Day-flyer.png
END:VEVENT
END:VCALENDAR