BEGIN:VCALENDAR
VERSION:2.0
PRODID:-//Hinds Behavioral Health Services - Region 9 - ECPv6.15.20//NONSGML v1.0//EN
CALSCALE:GREGORIAN
METHOD:PUBLISH
X-WR-CALNAME:Hinds Behavioral Health Services - Region 9
X-ORIGINAL-URL:https://hbhs9.com
X-WR-CALDESC:Events for Hinds Behavioral Health Services - Region 9
REFRESH-INTERVAL;VALUE=DURATION:PT1H
X-Robots-Tag:noindex
X-PUBLISHED-TTL:PT1H
BEGIN:VTIMEZONE
TZID:America/Chicago
BEGIN:DAYLIGHT
TZOFFSETFROM:-0600
TZOFFSETTO:-0500
TZNAME:CDT
DTSTART:20160313T080000
END:DAYLIGHT
BEGIN:STANDARD
TZOFFSETFROM:-0500
TZOFFSETTO:-0600
TZNAME:CST
DTSTART:20161106T070000
END:STANDARD
BEGIN:DAYLIGHT
TZOFFSETFROM:-0600
TZOFFSETTO:-0500
TZNAME:CDT
DTSTART:20170312T080000
END:DAYLIGHT
BEGIN:STANDARD
TZOFFSETFROM:-0500
TZOFFSETTO:-0600
TZNAME:CST
DTSTART:20171105T070000
END:STANDARD
BEGIN:DAYLIGHT
TZOFFSETFROM:-0600
TZOFFSETTO:-0500
TZNAME:CDT
DTSTART:20180311T080000
END:DAYLIGHT
BEGIN:STANDARD
TZOFFSETFROM:-0500
TZOFFSETTO:-0600
TZNAME:CST
DTSTART:20181104T070000
END:STANDARD
BEGIN:DAYLIGHT
TZOFFSETFROM:-0600
TZOFFSETTO:-0500
TZNAME:CDT
DTSTART:20190310T080000
END:DAYLIGHT
BEGIN:STANDARD
TZOFFSETFROM:-0500
TZOFFSETTO:-0600
TZNAME:CST
DTSTART:20191103T070000
END:STANDARD
END:VTIMEZONE
BEGIN:VEVENT
DTSTART;TZID=America/Chicago:20180122T080000
DTEND;TZID=America/Chicago:20180126T170000
DTSTAMP:20260419T175747
CREATED:20171221T160308Z
LAST-MODIFIED:20171221T173658Z
UID:1083-1516608000-1516986000@hbhs9.com
SUMMARY:Crisis Intervention Team - 40-Hour Law Enforcement Training
DESCRIPTION:Become a mental health hero\, join the upcoming Crisis Intervention Training at Hinds Behavioral Health Services. This event free and open to any law enforcement personnel within Hinds County\, MS. Officers must attend the entire week’s training to become a certified Crisis Intervention Team Officer. \nClick here to Register. \n 
URL:https://hbhs9.com/event/ms-crisis-intervention-team-40-hour-law-enforcement-training/
CATEGORIES:Training
ATTACH;FMTTYPE=image/jpeg:https://hbhs9.com/wp-content/uploads/2017/12/CIT-Training-2018-Flyer-EDITED.jpg
END:VEVENT
BEGIN:VEVENT
DTSTART;TZID=America/Chicago:20180120T090000
DTEND;TZID=America/Chicago:20180120T160000
DTSTAMP:20260419T175747
CREATED:20180105T164735Z
LAST-MODIFIED:20180105T164735Z
UID:1147-1516438800-1516464000@hbhs9.com
SUMMARY:Recovery Concepts for Families
DESCRIPTION:Join families and supporters of recovery as we explore how to make a positive difference in family recovery. The lecture/training is on Saturday\, January 20\, 2018 from 9 AM – 4 PM at Hinds Behavioral Health Services. This event is free and open to the public.
URL:https://hbhs9.com/event/recovery-concepts-families/
LOCATION:Hinds Behavioral Health Services\, 3450 Highway 80 West\, Jackson\, MS\, 39209\, United States
CATEGORIES:Training
ATTACH;FMTTYPE=image/jpeg:https://hbhs9.com/wp-content/uploads/2018/01/Recovery-Concepts-for-Families.jpg
END:VEVENT
BEGIN:VEVENT
DTSTART;TZID=America/Chicago:20171212T173000
DTEND;TZID=America/Chicago:20171212T193000
DTSTAMP:20260419T175747
CREATED:20171031T211418Z
LAST-MODIFIED:20171031T211510Z
UID:1041-1513099800-1513107000@hbhs9.com
SUMMARY:Sit and Sip
DESCRIPTION:Kick the holiday blues\, learn how to enjoy a healthier 2018 at Hinds Behavioral Health Services’ Sit and Sip event. Free and open to the public\, light refreshments will be served.
URL:https://hbhs9.com/event/sit-and-sip/
ATTACH;FMTTYPE=image/jpeg:https://hbhs9.com/wp-content/uploads/2017/10/2017-Sit-Sip-flyer.jpg
END:VEVENT
BEGIN:VEVENT
DTSTART;TZID=America/Chicago:20171020T173000
DTEND;TZID=America/Chicago:20171020T200000
DTSTAMP:20260419T175747
CREATED:20171005T185124Z
LAST-MODIFIED:20171005T185303Z
UID:1028-1508520600-1508529600@hbhs9.com
SUMMARY:HBHS Town Hall
DESCRIPTION:Take a stand against drug abuse and violence\, join the HBHS town hall! October 20th from 5:30 PM to 8 PM. \n 
URL:https://hbhs9.com/event/hbhs-town-hall/
ATTACH;FMTTYPE=image/jpeg:https://hbhs9.com/wp-content/uploads/2017/10/Drug-Violence-Town-Hall-Meeting-flyer.jpg
END:VEVENT
BEGIN:VEVENT
DTSTART;TZID=America/Chicago:20170922T090000
DTEND;TZID=America/Chicago:20170922T120000
DTSTAMP:20260419T175747
CREATED:20170830T134521Z
LAST-MODIFIED:20170830T134521Z
UID:1007-1506070800-1506081600@hbhs9.com
SUMMARY:Mini Workshop: Recovery
DESCRIPTION:Celebrate National Recovery Month\, join the voices for recovery at Hinds Behavioral Health Services free Mini Workshop September 22\, 2017\, from 9 AM to 12 PM. Help create awareness and understanding of substance use disorders and mental illness as well as the hope for recovery. Learn about the many pathways to recovery\, win door prizes\, and enjoy refreshments!
URL:https://hbhs9.com/event/mini-workshop-recovery/
LOCATION:Hinds Behavioral Health Services\, 3450 Highway 80 West\, Jackson\, MS\, 39209\, United States
ATTACH;FMTTYPE=image/jpeg:https://hbhs9.com/wp-content/uploads/2017/08/Recovery-Month-Mini-Workshop-Flyer-revised.jpg
END:VEVENT
BEGIN:VEVENT
DTSTART;TZID=America/Chicago:20170907T170000
DTEND;TZID=America/Chicago:20170907T193000
DTSTAMP:20260419T175747
CREATED:20170830T131208Z
LAST-MODIFIED:20170830T131725Z
UID:1001-1504803600-1504812600@hbhs9.com
SUMMARY:Family Fun Night
DESCRIPTION:School has started but you can still enjoy last days of summer. Join us on September 7\, 2017\, from 5:00 PM to 7:30 PM for a free Family Fun Night at Hinds Behavioral Health Services. Bring your family for a night of fun: inflatable jumps\, food\, a petting zoo\, and an arcade trailer! \n  \n 
URL:https://hbhs9.com/event/family-fun-night/
LOCATION:Hinds Behavioral Health Services\, 3450 Highway 80 West\, Jackson\, MS\, 39209\, United States
ATTACH;FMTTYPE=image/jpeg:https://hbhs9.com/wp-content/uploads/2017/08/Family-Fun-Night-2017.jpg
END:VEVENT
BEGIN:VEVENT
DTSTART;TZID=America/Chicago:20170727T130000
DTEND;TZID=America/Chicago:20170727T140000
DTSTAMP:20260419T175747
CREATED:20170719T184410Z
LAST-MODIFIED:20170719T184410Z
UID:932-1501160400-1501164000@hbhs9.com
SUMMARY:Relapse Prevention
DESCRIPTION:Relapse Prevention is an alcohol and drug prevention support group for adults who are clients of Hinds Behavioral Health Services. We can help you find support to remain sober and learn how to live a healthy and sober life.
URL:https://hbhs9.com/event/relapse-prevention-2/
LOCATION:Hinds Behavioral Health Services\, 3450 Highway 80 West\, Jackson\, MS\, 39209\, United States
END:VEVENT
BEGIN:VEVENT
DTSTART;TZID=America/Chicago:20170725T120000
DTEND;TZID=America/Chicago:20170725T130000
DTSTAMP:20260419T175747
CREATED:20170719T183029Z
LAST-MODIFIED:20170719T183029Z
UID:919-1500984000-1500987600@hbhs9.com
SUMMARY:Alcoholics Anonymous: Footprints Group
DESCRIPTION:Footprints Alcoholics Anonymous is a support group for individuals who are seeking help for a drinking problem.
URL:https://hbhs9.com/event/alcoholics-anonymous-footprints-group/
LOCATION:Hinds Behavioral Health Services\, 3450 Highway 80 West\, Jackson\, MS\, 39209\, United States
END:VEVENT
BEGIN:VEVENT
DTSTART;TZID=America/Chicago:20170725T110000
DTEND;TZID=America/Chicago:20170725T120000
DTSTAMP:20260419T175747
CREATED:20170719T184209Z
LAST-MODIFIED:20170719T184228Z
UID:930-1500980400-1500984000@hbhs9.com
SUMMARY:Relapse Prevention
DESCRIPTION:Relapse Prevention is an alcohol and drug prevention support group for adults who are clients of Hinds Behavioral Health Services. We can help you find support to remain sober and learn how to live a healthy and sober life. \n 
URL:https://hbhs9.com/event/relapse-prevention/
LOCATION:Hinds Behavioral Health Services\, 3450 Highway 80 West\, Jackson\, MS\, 39209\, United States
END:VEVENT
BEGIN:VEVENT
DTSTART;TZID=America/Chicago:20170721T133000
DTEND;TZID=America/Chicago:20170721T143000
DTSTAMP:20260419T175747
CREATED:20170719T183545Z
LAST-MODIFIED:20170719T183545Z
UID:924-1500643800-1500647400@hbhs9.com
SUMMARY:Pathways To Recovery: Peer Support Group
DESCRIPTION:Pathways To Recovery is a peer support group focused on the various pathways to recovery. The group is open to any registered client of Hinds Behavioral Health Services. \n 
URL:https://hbhs9.com/event/pathways-recovery-peer-support-group/
LOCATION:Hinds Behavioral Health Services\, 3450 Highway 80 West\, Jackson\, MS\, 39209\, United States
END:VEVENT
BEGIN:VEVENT
DTSTART;TZID=America/Chicago:20170721T110000
DTEND;TZID=America/Chicago:20170721T120000
DTSTAMP:20260419T175747
CREATED:20170719T183304Z
LAST-MODIFIED:20170719T183304Z
UID:921-1500634800-1500638400@hbhs9.com
SUMMARY:HIV 101
DESCRIPTION:HIV 101 is an HIV educational group available to registered participants of Hinds Behavioral Health Services. \n  \n \n 
URL:https://hbhs9.com/event/hiv-101/
LOCATION:Hinds Behavioral Health Services\, 3450 Highway 80 West\, Jackson\, MS\, 39209\, United States
END:VEVENT
BEGIN:VEVENT
DTSTART;TZID=America/Chicago:20170721T100000
DTEND;TZID=America/Chicago:20170721T230000
DTSTAMP:20260419T175747
CREATED:20170719T184011Z
LAST-MODIFIED:20170719T184011Z
UID:927-1500631200-1500678000@hbhs9.com
SUMMARY:Tobacco Cessation: Free Support Group
DESCRIPTION:Tobacco Cessation is a free support group for individuals who have or want to quit smoking. \n 
URL:https://hbhs9.com/event/tobacco-cessation-free-support-group/
LOCATION:Hinds Behavioral Health Services\, 3450 Highway 80 West\, Jackson\, MS\, 39209\, United States
END:VEVENT
BEGIN:VEVENT
DTSTART;TZID=America/Chicago:20170719T151500
DTEND;TZID=America/Chicago:20170719T161500
DTSTAMP:20260419T175747
CREATED:20170719T181655Z
LAST-MODIFIED:20170719T182818Z
UID:915-1500477300-1500480900@hbhs9.com
SUMMARY:Anger Management: Fury Fighter Group
DESCRIPTION:Anger Management is a 10-week program created to help improve interpersonal skills. The Fury Fighter group is open to clients of Hinds Behavioral Health Services who are age 18 and older. \n 
URL:https://hbhs9.com/event/anger-management-fury-fighter-group/
LOCATION:Hinds Behavioral Health Services\, 3450 Highway 80 West\, Jackson\, MS\, 39209\, United States
CATEGORIES:Group
END:VEVENT
BEGIN:VEVENT
DTSTART;TZID=America/Chicago:20170525T090000
DTEND;TZID=America/Chicago:20170525T150000
DTSTAMP:20260419T175747
CREATED:20170511T202940Z
LAST-MODIFIED:20170511T203001Z
UID:643-1495702800-1495724400@hbhs9.com
SUMMARY:FUN-N-THE-SUN
DESCRIPTION:
URL:https://hbhs9.com/event/fun-n-the-sun/
LOCATION:Hinds Behavioral Health Services\, 3450 Highway 80 West\, Jackson\, MS\, 39209\, United States
ATTACH;FMTTYPE=image/jpeg:https://hbhs9.com/wp-content/uploads/2017/05/Fun-N-The-Sun-web.jpg
END:VEVENT
BEGIN:VEVENT
DTSTART;TZID=America/Chicago:20170519T100000
DTEND;TZID=America/Chicago:20170519T120000
DTSTAMP:20260419T175747
CREATED:20170511T194959Z
LAST-MODIFIED:20170511T203054Z
UID:640-1495188000-1495195200@hbhs9.com
SUMMARY:Alcohol\, Violence & Drug Prevention Parade
DESCRIPTION:
URL:https://hbhs9.com/event/alcohol-violence-drug-prevention-parade/
ATTACH;FMTTYPE=image/jpeg:https://hbhs9.com/wp-content/uploads/2017/05/AD-Parade-Flyer-1.jpg
END:VEVENT
BEGIN:VEVENT
DTSTART;TZID=America/Chicago:20170518T170000
DTEND;TZID=America/Chicago:20170518T220000
DTSTAMP:20260419T175747
CREATED:20170511T194058Z
LAST-MODIFIED:20170511T203148Z
UID:637-1495126800-1495144800@hbhs9.com
SUMMARY:Food Truck Festival
DESCRIPTION:
URL:https://hbhs9.com/event/food-truck-festival/
LOCATION:Mississippi Museum of Art\, 380 South Lamar Street\, Jackson\, MS\, 39201\, United States
CATEGORIES:Awareness
ATTACH;FMTTYPE=image/jpeg:https://hbhs9.com/wp-content/uploads/2017/05/Food-Truck-Festival-Flyer.jpg
END:VEVENT
END:VCALENDAR