BEGIN:VCALENDAR
VERSION:2.0
PRODID:-//Hinds Behavioral Health Services - Region 9 - ECPv6.15.20//NONSGML v1.0//EN
CALSCALE:GREGORIAN
METHOD:PUBLISH
X-WR-CALNAME:Hinds Behavioral Health Services - Region 9
X-ORIGINAL-URL:https://hbhs9.com
X-WR-CALDESC:Events for Hinds Behavioral Health Services - Region 9
REFRESH-INTERVAL;VALUE=DURATION:PT1H
X-Robots-Tag:noindex
X-PUBLISHED-TTL:PT1H
BEGIN:VTIMEZONE
TZID:America/Chicago
BEGIN:DAYLIGHT
TZOFFSETFROM:-0600
TZOFFSETTO:-0500
TZNAME:CDT
DTSTART:20170312T080000
END:DAYLIGHT
BEGIN:STANDARD
TZOFFSETFROM:-0500
TZOFFSETTO:-0600
TZNAME:CST
DTSTART:20171105T070000
END:STANDARD
BEGIN:DAYLIGHT
TZOFFSETFROM:-0600
TZOFFSETTO:-0500
TZNAME:CDT
DTSTART:20180311T080000
END:DAYLIGHT
BEGIN:STANDARD
TZOFFSETFROM:-0500
TZOFFSETTO:-0600
TZNAME:CST
DTSTART:20181104T070000
END:STANDARD
BEGIN:DAYLIGHT
TZOFFSETFROM:-0600
TZOFFSETTO:-0500
TZNAME:CDT
DTSTART:20190310T080000
END:DAYLIGHT
BEGIN:STANDARD
TZOFFSETFROM:-0500
TZOFFSETTO:-0600
TZNAME:CST
DTSTART:20191103T070000
END:STANDARD
END:VTIMEZONE
BEGIN:VEVENT
DTSTART;TZID=America/Chicago:20180505T110000
DTEND;TZID=America/Chicago:20180505T150000
DTSTAMP:20260422T032216
CREATED:20180409T181831Z
LAST-MODIFIED:20180409T182036Z
UID:1350-1525518000-1525532400@hbhs9.com
SUMMARY:Block Party
DESCRIPTION:Join us for free family fun\, May 5th at Smith Park in Jackson from 11 AM – 3 PM! Free family fun\, food\, and community resources. \nSponsored by: NFusion Metro\, NAMI Mississippi\, and the ladies of Alpha Kappa Alpha Sorority\, Inc. Rho Lambda Omega Chapter
URL:https://hbhs9.com/event/block-party/
CATEGORIES:Family Event
ATTACH;FMTTYPE=image/jpeg:https://hbhs9.com/wp-content/uploads/2018/04/NFusion-Metro-Block-Party-2.jpg
END:VEVENT
BEGIN:VEVENT
DTSTART;TZID=America/Chicago:20180509T180000
DTEND;TZID=America/Chicago:20180509T200000
DTSTAMP:20260422T032216
CREATED:20180424T212205Z
LAST-MODIFIED:20180424T212205Z
UID:1376-1525888800-1525896000@hbhs9.com
SUMMARY:Unmasking Mental Health: Suicide Prevention Candlelight Vigil & Balloon Release
DESCRIPTION:Join Hinds Behavioral Health Services\, as we recognize lives lost to suicide\, loss survivors\, and those struggling with mental illness. The event will include a candlelight vigil\, balloon release\, suicide prevention resources\, food & activities.
URL:https://hbhs9.com/event/unmasking-mental-health-suicide-prevention-candlelight-vigil-balloon-release/
CATEGORIES:Awareness,Family Event
ATTACH;FMTTYPE=image/jpeg:https://hbhs9.com/wp-content/uploads/2018/04/Candlelight-Vigil-Flyer-3rd-revision.jpg
END:VEVENT
BEGIN:VEVENT
DTSTART;TZID=America/Chicago:20180511T090000
DTEND;TZID=America/Chicago:20180511T130000
DTSTAMP:20260422T032216
CREATED:20180327T183204Z
LAST-MODIFIED:20180409T182758Z
UID:1327-1526029200-1526043600@hbhs9.com
SUMMARY:Opioid Summit - Bridging together with others to help FIGHT the Opioid Crisis
DESCRIPTION:Join us as we bridge together to FIGHT opioid use in Mississippi on May 11\, 2018\, 9 AM – 1 PM at Hinds Behavioral Health Services\, large conference room. Learn how you can help prevent opioid use and the resources available for recovery. This event is free and open to professionals as well as the general public.
URL:https://hbhs9.com/event/opioid-summit-bridging-together-to-help-fight-the-opioid-crisis/
CATEGORIES:Awareness
ATTACH;FMTTYPE=image/jpeg:https://hbhs9.com/wp-content/uploads/2018/03/Opioid-Summit-3-1.jpg
END:VEVENT
BEGIN:VEVENT
DTSTART;TZID=America/Chicago:20180515T080000
DTEND;TZID=America/Chicago:20180515T100000
DTSTAMP:20260422T032216
CREATED:20180511T155444Z
LAST-MODIFIED:20180511T155444Z
UID:1407-1526371200-1526378400@hbhs9.com
SUMMARY:Free Client Appreciation Breakfast
DESCRIPTION:You’re invited! Stop by an meet our treatment team and enjoy a free continental breakfast on May 15th from 8 AM – 10 AM.
URL:https://hbhs9.com/event/free-client-appreciation-breakfast/
CATEGORIES:Family Event
ATTACH;FMTTYPE=image/jpeg:https://hbhs9.com/wp-content/uploads/2018/05/Client-Appreciation-Breakfast-flyer.jpg
END:VEVENT
BEGIN:VEVENT
DTSTART;TZID=America/Chicago:20180515T100000
DTEND;TZID=America/Chicago:20180515T140000
DTSTAMP:20260422T032216
CREATED:20180504T191312Z
LAST-MODIFIED:20180504T191312Z
UID:1396-1526378400-1526392800@hbhs9.com
SUMMARY:Ribbon Cutting & Open House
DESCRIPTION:Join us to celebrate the grand opening of our new Drop-In Center. The Bridge\, Drop-In Center will provide services to help homeless individuals with serious mental illness gain access to housing\, treatment\, and recovery support.
URL:https://hbhs9.com/event/ribbon-cutting-open-house/
CATEGORIES:Awareness,Family Event
ATTACH;FMTTYPE=image/jpeg:https://hbhs9.com/wp-content/uploads/2018/05/drop-in-center.jpg
END:VEVENT
BEGIN:VEVENT
DTSTART;TZID=America/Chicago:20180517T170000
DTEND;TZID=America/Chicago:20180517T220000
DTSTAMP:20260422T032216
CREATED:20180504T193920Z
LAST-MODIFIED:20180504T193956Z
UID:1399-1526576400-1526594400@hbhs9.com
SUMMARY:Dinner & a Movie: Food Truck Festival
DESCRIPTION:Join us at the MS Museum of Art for a free family event. Stop by our booth and learn about the human brain from a C Spire robot. Bring a blanket or chair and watch WALL-E\, take a stroll through the museum\, jam out to live music\, and chow down on dinner from a food truck. This event is free and open to the public. Food and drinks are available for purchase.
URL:https://hbhs9.com/event/dinner-a-movie-food-truck-festival/
CATEGORIES:Family Event
ATTACH;FMTTYPE=image/jpeg:https://hbhs9.com/wp-content/uploads/2018/05/2018-Food-Truck-Festival-Flyer-3rd-revision.jpg
END:VEVENT
BEGIN:VEVENT
DTSTART;TZID=America/Chicago:20180525T100000
DTEND;TZID=America/Chicago:20180525T140000
DTSTAMP:20260422T032216
CREATED:20180416T161016Z
LAST-MODIFIED:20180416T161052Z
UID:1362-1527242400-1527256800@hbhs9.com
SUMMARY:Fun-N-The-Sun
DESCRIPTION:Visit Hinds Behavioral Health Services’ free fun day event on May 25th from 10 AM – 2 PM. Enjoy free food\, games\, live music\, an education/prevention booth\, and a clothing giveaway.
URL:https://hbhs9.com/event/fun-n-the-sun-2/
CATEGORIES:Family Event
ATTACH;FMTTYPE=image/jpeg:https://hbhs9.com/wp-content/uploads/2018/04/Fun-In-The-Sun-2018-flyer-3.jpg
END:VEVENT
BEGIN:VEVENT
DTSTART;TZID=America/Chicago:20180529T080000
DTEND;TZID=America/Chicago:20180529T163000
DTSTAMP:20260422T032216
CREATED:20180328T175718Z
LAST-MODIFIED:20180328T175718Z
UID:1338-1527580800-1527611400@hbhs9.com
SUMMARY:Mental Health First Aid Course
DESCRIPTION:Approximately one in five Americans experience a mental health or addiction disorder each year. Do you know what to do when someone near you has a panic attack? Join Hinds Behavioral Health Services’ Mental Health First Aid course on April 27 and May 29\, 2018. This course is 8-hours and is open to professionals and the public. The course cost is $50 which includes course materials and certification.
URL:https://hbhs9.com/event/mental-health-first-aid-course-4/
ATTACH;FMTTYPE=image/jpeg:https://hbhs9.com/wp-content/uploads/2018/03/MENTAL-HEALTH-FIRST-AID-APRIL-AND-MAY-2.jpg
END:VEVENT
BEGIN:VEVENT
DTSTART;TZID=America/Chicago:20180529T090000
DTEND;TZID=America/Chicago:20180529T160000
DTSTAMP:20260422T032216
CREATED:20180416T160101Z
LAST-MODIFIED:20180424T173759Z
UID:1356-1527584400-1527609600@hbhs9.com
SUMMARY:Free Vision Screening\, Glasses\, & Dental
DESCRIPTION:Does your child need their vision checked or their teeth cleaned? Visit Hinds Behavioral Health Services on May 29th and 30th for free vision screenings\, eyeglasses\, and dental cleanings from 9 AM – 4 PM. Registration is required\, please call our main office and contact Shantrell Cavett at 601-321-2486 or Dynita Washington at 601-321-2467. \n\nVision To Learn will conduct screenings and provide eyeglasses to eligible children\nChild or youth must be age 6 to 18 (vision)\nVerification of income may be required for non-HBHS clients\nSmiles To Go will conduct dental screenings/cleanings to eligible children\nChild or youth must be age 5 to 17 (dental)\nMedicaid or private insurance will be billed for services and Smiles To Go will cover any out-of-pocket expenses.
URL:https://hbhs9.com/event/free-vision-screening-glasses-dental/
CATEGORIES:Family Event
ATTACH;FMTTYPE=image/jpeg:https://hbhs9.com/wp-content/uploads/2018/04/May-Eye-and-Dental-Screening-Event.jpg
END:VEVENT
BEGIN:VEVENT
DTSTART;TZID=America/Chicago:20180530T090000
DTEND;TZID=America/Chicago:20180530T160000
DTSTAMP:20260422T032216
CREATED:20180416T160141Z
LAST-MODIFIED:20180416T160210Z
UID:1360-1527670800-1527696000@hbhs9.com
SUMMARY:Free Vision Screening\, Glasses\, & Dental
DESCRIPTION:Does your child need their vision checked or their teeth cleaned? Visit Hinds Behavioral Health Services on May 29th and 30th for free vision screenings\, eyeglasses\, and dental cleanings from 9 AM – 4 PM. Registration is required\, please call our main office and contact Shantrell Cavett at 601-321-2486 or Dynita Washington at 601-321-2467. \n\nVision To Learn will conduct screenings and provide eyeglasses to eligible children\nChild or youth must be age 6 to 18 (vision)\nVerification of income may be required for non-HBHS clients\nSmiles To Go will conduct dental screenings/cleanings to eligible children\nChild or youth must be age 5 to 17 (dental)\nMedicaid will be billed for services and Smiles To Go will cover any out-of-pocket expenses.
URL:https://hbhs9.com/event/free-vision-screening-glasses-dental-2/
CATEGORIES:Family Event
ATTACH;FMTTYPE=image/jpeg:https://hbhs9.com/wp-content/uploads/2018/04/Free-EYE-SCREENING-1.jpg
END:VEVENT
END:VCALENDAR